BEGIN:VCALENDAR
VERSION:2.0
PRODID:-//Tampa Bay - ECPv6.15.20//NONSGML v1.0//EN
CALSCALE:GREGORIAN
METHOD:PUBLISH
X-ORIGINAL-URL:http://tampabay.usnachapters.net
X-WR-CALDESC:Events for Tampa Bay
REFRESH-INTERVAL;VALUE=DURATION:PT1H
X-Robots-Tag:noindex
X-PUBLISHED-TTL:PT1H
BEGIN:VTIMEZONE
TZID:America/New_York
BEGIN:DAYLIGHT
TZOFFSETFROM:-0500
TZOFFSETTO:-0400
TZNAME:EDT
DTSTART:20240310T070000
END:DAYLIGHT
BEGIN:STANDARD
TZOFFSETFROM:-0400
TZOFFSETTO:-0500
TZNAME:EST
DTSTART:20241103T060000
END:STANDARD
BEGIN:DAYLIGHT
TZOFFSETFROM:-0500
TZOFFSETTO:-0400
TZNAME:EDT
DTSTART:20250309T070000
END:DAYLIGHT
BEGIN:STANDARD
TZOFFSETFROM:-0400
TZOFFSETTO:-0500
TZNAME:EST
DTSTART:20251102T060000
END:STANDARD
BEGIN:DAYLIGHT
TZOFFSETFROM:-0500
TZOFFSETTO:-0400
TZNAME:EDT
DTSTART:20260308T070000
END:DAYLIGHT
BEGIN:STANDARD
TZOFFSETFROM:-0400
TZOFFSETTO:-0500
TZNAME:EST
DTSTART:20261101T060000
END:STANDARD
BEGIN:DAYLIGHT
TZOFFSETFROM:-0500
TZOFFSETTO:-0400
TZNAME:EDT
DTSTART:20270314T070000
END:DAYLIGHT
BEGIN:STANDARD
TZOFFSETFROM:-0400
TZOFFSETTO:-0500
TZNAME:EST
DTSTART:20271107T060000
END:STANDARD
BEGIN:DAYLIGHT
TZOFFSETFROM:-0500
TZOFFSETTO:-0400
TZNAME:EDT
DTSTART:20280312T070000
END:DAYLIGHT
BEGIN:STANDARD
TZOFFSETFROM:-0400
TZOFFSETTO:-0500
TZNAME:EST
DTSTART:20281105T060000
END:STANDARD
END:VTIMEZONE
BEGIN:VEVENT
DTSTART;TZID=America/New_York:20250402T180000
DTEND;TZID=America/New_York:20250402T193000
DTSTAMP:20260425T120103
CREATED:20230830T173725Z
LAST-MODIFIED:20250326T191758Z
UID:2588-1743616800-1743622200@tampabay.usnachapters.net
SUMMARY:April 2025 Chapter Meeting
DESCRIPTION:April 2025 Chapter Meeting
URL:http://tampabay.usnachapters.net/event/april-2025-chapter-meeting/
LOCATION:Chuck Lager America’s Tavern\, 5224 Bridge St\, Tampa\, FL\, 33611\, United States
CATEGORIES:Chapter Meeting
END:VEVENT
BEGIN:VEVENT
DTSTART;TZID=America/New_York:20250507T180000
DTEND;TZID=America/New_York:20250507T193000
DTSTAMP:20260425T120103
CREATED:20241121T135415Z
LAST-MODIFIED:20250409T161024Z
UID:2648-1746640800-1746646200@tampabay.usnachapters.net
SUMMARY:May 2025 Chapter Meeting
DESCRIPTION:May 2025 Chapter Meeting
URL:http://tampabay.usnachapters.net/event/may-2025-chapter-meeting/
LOCATION:Chuck Lager America’s Tavern\, 5224 Bridge St\, Tampa\, FL\, 33611\, United States
CATEGORIES:Chapter Meeting
END:VEVENT
BEGIN:VEVENT
DTSTART;TZID=America/New_York:20250604T180000
DTEND;TZID=America/New_York:20250604T193000
DTSTAMP:20260425T120103
CREATED:20241121T135751Z
LAST-MODIFIED:20250521T200115Z
UID:2652-1749060000-1749065400@tampabay.usnachapters.net
SUMMARY:June 2025 Chapter Meeting
DESCRIPTION:June 2025 Chapter Meeting
URL:http://tampabay.usnachapters.net/event/june-2025-chapter-meeting/
LOCATION:Chuck Lager America’s Tavern\, 5224 Bridge St\, Tampa\, FL\, 33611\, United States
CATEGORIES:Chapter Meeting
END:VEVENT
BEGIN:VEVENT
DTSTART;TZID=America/New_York:20250806T180000
DTEND;TZID=America/New_York:20250806T193000
DTSTAMP:20260425T120103
CREATED:20241121T140105Z
LAST-MODIFIED:20250716T154318Z
UID:2656-1754503200-1754508600@tampabay.usnachapters.net
SUMMARY:August 2025 Chapter Meeting
DESCRIPTION:August 2025 Chapter Meeting
URL:http://tampabay.usnachapters.net/event/august-2025-chapter-meeting/
LOCATION:Chuck Lager America’s Tavern\, 5224 Bridge St\, Tampa\, FL\, 33611\, United States
CATEGORIES:Chapter Meeting
END:VEVENT
BEGIN:VEVENT
DTSTART;TZID=America/New_York:20250903T180000
DTEND;TZID=America/New_York:20250903T193000
DTSTAMP:20260425T120103
CREATED:20241121T140147Z
LAST-MODIFIED:20250822T194548Z
UID:2658-1756922400-1756927800@tampabay.usnachapters.net
SUMMARY:September 2025 Chapter Meeting
DESCRIPTION:September 2025 Chapter Meeting
URL:http://tampabay.usnachapters.net/event/september-2025-chapter-meeting/
LOCATION:Chuck Lager America’s Tavern\, 5224 Bridge St\, Tampa\, FL\, 33611\, United States
CATEGORIES:Chapter Meeting
END:VEVENT
BEGIN:VEVENT
DTSTART;TZID=America/New_York:20251001T180000
DTEND;TZID=America/New_York:20251001T193000
DTSTAMP:20260425T120103
CREATED:20241121T140245Z
LAST-MODIFIED:20250822T194643Z
UID:2660-1759341600-1759347000@tampabay.usnachapters.net
SUMMARY:October 2025 Chapter Meeting
DESCRIPTION:October 2025 Chapter Meeting
URL:http://tampabay.usnachapters.net/event/october-2025-chapter-meeting/
LOCATION:Chuck Lager America’s Tavern\, 5224 Bridge St\, Tampa\, FL\, 33611\, United States
CATEGORIES:Chapter Meeting
END:VEVENT
BEGIN:VEVENT
DTSTART;TZID=America/New_York:20251008T180000
DTEND;TZID=America/New_York:20251008T210000
DTSTAMP:20260425T120103
CREATED:20250822T202000Z
LAST-MODIFIED:20250822T202000Z
UID:2684-1759946400-1759957200@tampabay.usnachapters.net
SUMMARY:2025 Founder's Day Candidate Dinner
DESCRIPTION:
URL:http://tampabay.usnachapters.net/event/2025-founders-day-candidate-dinner/
LOCATION:Feather Sound Country Club\, 2201 Feather Sound Dr\, Clearwater\, FL\, 33762\, United States
CATEGORIES:USNA Information Session
END:VEVENT
BEGIN:VEVENT
DTSTART;TZID=America/New_York:20251105T180000
DTEND;TZID=America/New_York:20251105T193000
DTSTAMP:20260425T120103
CREATED:20241121T140500Z
LAST-MODIFIED:20250822T194723Z
UID:2662-1762365600-1762371000@tampabay.usnachapters.net
SUMMARY:November 2025 Chapter Meeting
DESCRIPTION:November 2025 Chapter Meeting
URL:http://tampabay.usnachapters.net/event/november-2025-chapter-meeting/
LOCATION:Chuck Lager America’s Tavern\, 5224 Bridge St\, Tampa\, FL\, 33611\, United States
CATEGORIES:Chapter Meeting
END:VEVENT
BEGIN:VEVENT
DTSTART;TZID=America/New_York:20251203T180000
DTEND;TZID=America/New_York:20251203T193000
DTSTAMP:20260425T120103
CREATED:20241121T140541Z
LAST-MODIFIED:20250822T194752Z
UID:2664-1764784800-1764790200@tampabay.usnachapters.net
SUMMARY:December 2025 Chapter Meeting
DESCRIPTION:December 2025 Chapter Meeting
URL:http://tampabay.usnachapters.net/event/december-2025-chapter-meeting/
LOCATION:Chuck Lager America’s Tavern\, 5224 Bridge St\, Tampa\, FL\, 33611\, United States
CATEGORIES:Chapter Meeting
END:VEVENT
BEGIN:VEVENT
DTSTART;TZID=America/New_York:20260107T180000
DTEND;TZID=America/New_York:20260107T193000
DTSTAMP:20260425T120103
CREATED:20241121T140627Z
LAST-MODIFIED:20260105T155523Z
UID:2666-1767808800-1767814200@tampabay.usnachapters.net
SUMMARY:January 2026 Chapter Meeting
DESCRIPTION:January 2026 Chapter Meeting
URL:http://tampabay.usnachapters.net/event/january-2026-chapter-meeting/
LOCATION:The Greene Turtle\, 5224 Bridge Street\, Tampa\, 33611\, United States
CATEGORIES:Chapter Meeting
END:VEVENT
BEGIN:VEVENT
DTSTART;TZID=America/New_York:20260204T180000
DTEND;TZID=America/New_York:20260204T193000
DTSTAMP:20260425T120103
CREATED:20241121T140704Z
LAST-MODIFIED:20260105T160134Z
UID:2668-1770228000-1770233400@tampabay.usnachapters.net
SUMMARY:February 2026 Chapter Meeting
DESCRIPTION:February 2026 Chapter Meeting
URL:http://tampabay.usnachapters.net/event/february-2026-chapter-meeting/
LOCATION:The Greene Turtle\, 5224 Bridge Street\, Tampa\, 33611\, United States
CATEGORIES:Chapter Meeting
END:VEVENT
BEGIN:VEVENT
DTSTART;TZID=America/New_York:20260304T180000
DTEND;TZID=America/New_York:20260304T193000
DTSTAMP:20260425T120103
CREATED:20241121T140748Z
LAST-MODIFIED:20260105T160207Z
UID:2670-1772647200-1772652600@tampabay.usnachapters.net
SUMMARY:March 2026 Chapter Meeting
DESCRIPTION:March 2026 Chapter Meeting
URL:http://tampabay.usnachapters.net/event/march-2026-chapter-meeting/
LOCATION:The Greene Turtle\, 5224 Bridge Street\, Tampa\, 33611\, United States
CATEGORIES:Chapter Meeting
END:VEVENT
BEGIN:VEVENT
DTSTART;TZID=America/New_York:20260401T180000
DTEND;TZID=America/New_York:20260401T193000
DTSTAMP:20260425T120103
CREATED:20241121T140828Z
LAST-MODIFIED:20260105T160243Z
UID:2672-1775066400-1775071800@tampabay.usnachapters.net
SUMMARY:April 2026 Chapter Meeting
DESCRIPTION:April 2026 Chapter Meeting
URL:http://tampabay.usnachapters.net/event/april-2026-chapter-meeting/
LOCATION:The Greene Turtle\, 5224 Bridge Street\, Tampa\, 33611\, United States
CATEGORIES:Chapter Meeting
END:VEVENT
BEGIN:VEVENT
DTSTART;TZID=America/New_York:20260506T180000
DTEND;TZID=America/New_York:20260506T193000
DTSTAMP:20260425T120103
CREATED:20260105T160652Z
LAST-MODIFIED:20260105T160652Z
UID:2691-1778090400-1778095800@tampabay.usnachapters.net
SUMMARY:May 2026 Chapter Meeting
DESCRIPTION:May 2026 Chapter Meeting
URL:http://tampabay.usnachapters.net/event/may-2026-chapter-meeting/
LOCATION:The Greene Turtle\, 5224 Bridge Street\, Tampa\, 33611\, United States
END:VEVENT
BEGIN:VEVENT
DTSTART;TZID=America/New_York:20260603T180000
DTEND;TZID=America/New_York:20260603T193000
DTSTAMP:20260425T120103
CREATED:20260105T160807Z
LAST-MODIFIED:20260105T160807Z
UID:2693-1780509600-1780515000@tampabay.usnachapters.net
SUMMARY:June 2026 Chapter Meeting
DESCRIPTION:June 2026 Chapter Meeting
URL:http://tampabay.usnachapters.net/event/june-2026-chapter-meeting/
LOCATION:The Greene Turtle\, 5224 Bridge Street\, Tampa\, 33611\, United States
END:VEVENT
BEGIN:VEVENT
DTSTART;TZID=America/New_York:20260805T180000
DTEND;TZID=America/New_York:20260805T193000
DTSTAMP:20260425T120103
CREATED:20260105T160919Z
LAST-MODIFIED:20260105T160919Z
UID:2695-1785952800-1785958200@tampabay.usnachapters.net
SUMMARY:August 2026 Chapter Meeting
DESCRIPTION:August 2026 Chapter Meeting
URL:http://tampabay.usnachapters.net/event/august-2026-chapter-meeting/
LOCATION:The Greene Turtle\, 5224 Bridge Street\, Tampa\, 33611\, United States
END:VEVENT
BEGIN:VEVENT
DTSTART;TZID=America/New_York:20260902T180000
DTEND;TZID=America/New_York:20260902T193000
DTSTAMP:20260425T120103
CREATED:20260105T161029Z
LAST-MODIFIED:20260105T161029Z
UID:2697-1788372000-1788377400@tampabay.usnachapters.net
SUMMARY:September 2026 Chapter Meeting
DESCRIPTION:September 2026 Chapter Meeting
URL:http://tampabay.usnachapters.net/event/september-2026-chapter-meeting/
LOCATION:The Greene Turtle\, 5224 Bridge Street\, Tampa\, 33611\, United States
END:VEVENT
BEGIN:VEVENT
DTSTART;TZID=America/New_York:20261007T180000
DTEND;TZID=America/New_York:20261007T193000
DTSTAMP:20260425T120103
CREATED:20260105T161122Z
LAST-MODIFIED:20260105T161122Z
UID:2699-1791396000-1791401400@tampabay.usnachapters.net
SUMMARY:October 2026 Chapter Meeting
DESCRIPTION:October 2026 Chapter Meeting
URL:http://tampabay.usnachapters.net/event/october-2026-chapter-meeting/
LOCATION:The Greene Turtle\, 5224 Bridge Street\, Tampa\, 33611\, United States
END:VEVENT
BEGIN:VEVENT
DTSTART;TZID=America/New_York:20261104T180000
DTEND;TZID=America/New_York:20261104T193000
DTSTAMP:20260425T120103
CREATED:20260105T161223Z
LAST-MODIFIED:20260105T161223Z
UID:2701-1793815200-1793820600@tampabay.usnachapters.net
SUMMARY:November 2026 Chapter Meeting
DESCRIPTION:November 2026 Chapter Meeting
URL:http://tampabay.usnachapters.net/event/november-2026-chapter-meeting/
LOCATION:The Greene Turtle\, 5224 Bridge Street\, Tampa\, 33611\, United States
END:VEVENT
BEGIN:VEVENT
DTSTART;TZID=America/New_York:20261202T180000
DTEND;TZID=America/New_York:20261202T193000
DTSTAMP:20260425T120103
CREATED:20260105T161311Z
LAST-MODIFIED:20260105T161311Z
UID:2703-1796234400-1796239800@tampabay.usnachapters.net
SUMMARY:December 2026 Chapter Meeting
DESCRIPTION:December 2026 Chapter Meeting
URL:http://tampabay.usnachapters.net/event/december-2026-chapter-meeting/
LOCATION:The Greene Turtle\, 5224 Bridge Street\, Tampa\, 33611\, United States
END:VEVENT
BEGIN:VEVENT
DTSTART;TZID=America/New_York:20270106T180000
DTEND;TZID=America/New_York:20270106T193000
DTSTAMP:20260425T120103
CREATED:20260105T161421Z
LAST-MODIFIED:20260105T161421Z
UID:2705-1799258400-1799263800@tampabay.usnachapters.net
SUMMARY:January 2027 Chapter Meeting
DESCRIPTION:January 2027 Chapter Meeting
URL:http://tampabay.usnachapters.net/event/january-2027-chapter-meeting/
LOCATION:The Greene Turtle\, 5224 Bridge Street\, Tampa\, 33611\, United States
END:VEVENT
BEGIN:VEVENT
DTSTART;TZID=America/New_York:20270203T180000
DTEND;TZID=America/New_York:20270203T193000
DTSTAMP:20260425T120103
CREATED:20260105T161514Z
LAST-MODIFIED:20260105T161514Z
UID:2707-1801677600-1801683000@tampabay.usnachapters.net
SUMMARY:February 2027 Chapter Meeting
DESCRIPTION:February 2027 Chapter Meeting
URL:http://tampabay.usnachapters.net/event/february-2027-chapter-meeting/
LOCATION:The Greene Turtle\, 5224 Bridge Street\, Tampa\, 33611\, United States
END:VEVENT
BEGIN:VEVENT
DTSTART;TZID=America/New_York:20270303T180000
DTEND;TZID=America/New_York:20270303T193000
DTSTAMP:20260425T120103
CREATED:20260105T161558Z
LAST-MODIFIED:20260105T161558Z
UID:2709-1804096800-1804102200@tampabay.usnachapters.net
SUMMARY:March 2027 Chapter Meeting
DESCRIPTION:March 2027 Chapter Meeting
URL:http://tampabay.usnachapters.net/event/march-2027-chapter-meeting/
LOCATION:The Greene Turtle\, 5224 Bridge Street\, Tampa\, 33611\, United States
END:VEVENT
BEGIN:VEVENT
DTSTART;TZID=America/New_York:20270407T180000
DTEND;TZID=America/New_York:20270407T193000
DTSTAMP:20260425T120103
CREATED:20260105T161647Z
LAST-MODIFIED:20260105T161647Z
UID:2711-1807120800-1807126200@tampabay.usnachapters.net
SUMMARY:April 2027 Chapter Meeting
DESCRIPTION:April 2027 Chapter Meeting
URL:http://tampabay.usnachapters.net/event/april-2027-chapter-meeting/
LOCATION:The Greene Turtle\, 5224 Bridge Street\, Tampa\, 33611\, United States
END:VEVENT
END:VCALENDAR