BEGIN:VCALENDAR
VERSION:2.0
PRODID:-//Tampa Bay - ECPv6.15.20//NONSGML v1.0//EN
CALSCALE:GREGORIAN
METHOD:PUBLISH
X-WR-CALNAME:Tampa Bay
X-ORIGINAL-URL:http://tampabay.usnachapters.net
X-WR-CALDESC:Events for Tampa Bay
REFRESH-INTERVAL;VALUE=DURATION:PT1H
X-Robots-Tag:noindex
X-PUBLISHED-TTL:PT1H
BEGIN:VTIMEZONE
TZID:America/New_York
BEGIN:DAYLIGHT
TZOFFSETFROM:-0500
TZOFFSETTO:-0400
TZNAME:EDT
DTSTART:20220313T070000
END:DAYLIGHT
BEGIN:STANDARD
TZOFFSETFROM:-0400
TZOFFSETTO:-0500
TZNAME:EST
DTSTART:20221106T060000
END:STANDARD
BEGIN:DAYLIGHT
TZOFFSETFROM:-0500
TZOFFSETTO:-0400
TZNAME:EDT
DTSTART:20230312T070000
END:DAYLIGHT
BEGIN:STANDARD
TZOFFSETFROM:-0400
TZOFFSETTO:-0500
TZNAME:EST
DTSTART:20231105T060000
END:STANDARD
BEGIN:DAYLIGHT
TZOFFSETFROM:-0500
TZOFFSETTO:-0400
TZNAME:EDT
DTSTART:20240310T070000
END:DAYLIGHT
BEGIN:STANDARD
TZOFFSETFROM:-0400
TZOFFSETTO:-0500
TZNAME:EST
DTSTART:20241103T060000
END:STANDARD
BEGIN:DAYLIGHT
TZOFFSETFROM:-0500
TZOFFSETTO:-0400
TZNAME:EDT
DTSTART:20250309T070000
END:DAYLIGHT
BEGIN:STANDARD
TZOFFSETFROM:-0400
TZOFFSETTO:-0500
TZNAME:EST
DTSTART:20251102T060000
END:STANDARD
BEGIN:DAYLIGHT
TZOFFSETFROM:-0500
TZOFFSETTO:-0400
TZNAME:EDT
DTSTART:20260308T070000
END:DAYLIGHT
BEGIN:STANDARD
TZOFFSETFROM:-0400
TZOFFSETTO:-0500
TZNAME:EST
DTSTART:20261101T060000
END:STANDARD
BEGIN:DAYLIGHT
TZOFFSETFROM:-0500
TZOFFSETTO:-0400
TZNAME:EDT
DTSTART:20270314T070000
END:DAYLIGHT
BEGIN:STANDARD
TZOFFSETFROM:-0400
TZOFFSETTO:-0500
TZNAME:EST
DTSTART:20271107T060000
END:STANDARD
END:VTIMEZONE
BEGIN:VEVENT
DTSTART;TZID=America/New_York:20260107T180000
DTEND;TZID=America/New_York:20260107T193000
DTSTAMP:20260425T100721
CREATED:20241121T140627Z
LAST-MODIFIED:20260105T155523Z
UID:2666-1767808800-1767814200@tampabay.usnachapters.net
SUMMARY:January 2026 Chapter Meeting
DESCRIPTION:January 2026 Chapter Meeting
URL:http://tampabay.usnachapters.net/event/january-2026-chapter-meeting/
LOCATION:The Greene Turtle\, 5224 Bridge Street\, Tampa\, 33611\, United States
CATEGORIES:Chapter Meeting
END:VEVENT
BEGIN:VEVENT
DTSTART;TZID=America/New_York:20251203T180000
DTEND;TZID=America/New_York:20251203T193000
DTSTAMP:20260425T100721
CREATED:20241121T140541Z
LAST-MODIFIED:20250822T194752Z
UID:2664-1764784800-1764790200@tampabay.usnachapters.net
SUMMARY:December 2025 Chapter Meeting
DESCRIPTION:December 2025 Chapter Meeting
URL:http://tampabay.usnachapters.net/event/december-2025-chapter-meeting/
LOCATION:Chuck Lager America’s Tavern\, 5224 Bridge St\, Tampa\, FL\, 33611\, United States
CATEGORIES:Chapter Meeting
END:VEVENT
BEGIN:VEVENT
DTSTART;TZID=America/New_York:20251105T180000
DTEND;TZID=America/New_York:20251105T193000
DTSTAMP:20260425T100721
CREATED:20241121T140500Z
LAST-MODIFIED:20250822T194723Z
UID:2662-1762365600-1762371000@tampabay.usnachapters.net
SUMMARY:November 2025 Chapter Meeting
DESCRIPTION:November 2025 Chapter Meeting
URL:http://tampabay.usnachapters.net/event/november-2025-chapter-meeting/
LOCATION:Chuck Lager America’s Tavern\, 5224 Bridge St\, Tampa\, FL\, 33611\, United States
CATEGORIES:Chapter Meeting
END:VEVENT
BEGIN:VEVENT
DTSTART;TZID=America/New_York:20251008T180000
DTEND;TZID=America/New_York:20251008T210000
DTSTAMP:20260425T100721
CREATED:20250822T202000Z
LAST-MODIFIED:20250822T202000Z
UID:2684-1759946400-1759957200@tampabay.usnachapters.net
SUMMARY:2025 Founder's Day Candidate Dinner
DESCRIPTION:
URL:http://tampabay.usnachapters.net/event/2025-founders-day-candidate-dinner/
LOCATION:Feather Sound Country Club\, 2201 Feather Sound Dr\, Clearwater\, FL\, 33762\, United States
CATEGORIES:USNA Information Session
END:VEVENT
BEGIN:VEVENT
DTSTART;TZID=America/New_York:20251001T180000
DTEND;TZID=America/New_York:20251001T193000
DTSTAMP:20260425T100721
CREATED:20241121T140245Z
LAST-MODIFIED:20250822T194643Z
UID:2660-1759341600-1759347000@tampabay.usnachapters.net
SUMMARY:October 2025 Chapter Meeting
DESCRIPTION:October 2025 Chapter Meeting
URL:http://tampabay.usnachapters.net/event/october-2025-chapter-meeting/
LOCATION:Chuck Lager America’s Tavern\, 5224 Bridge St\, Tampa\, FL\, 33611\, United States
CATEGORIES:Chapter Meeting
END:VEVENT
BEGIN:VEVENT
DTSTART;TZID=America/New_York:20250903T180000
DTEND;TZID=America/New_York:20250903T193000
DTSTAMP:20260425T100721
CREATED:20241121T140147Z
LAST-MODIFIED:20250822T194548Z
UID:2658-1756922400-1756927800@tampabay.usnachapters.net
SUMMARY:September 2025 Chapter Meeting
DESCRIPTION:September 2025 Chapter Meeting
URL:http://tampabay.usnachapters.net/event/september-2025-chapter-meeting/
LOCATION:Chuck Lager America’s Tavern\, 5224 Bridge St\, Tampa\, FL\, 33611\, United States
CATEGORIES:Chapter Meeting
END:VEVENT
BEGIN:VEVENT
DTSTART;TZID=America/New_York:20250806T180000
DTEND;TZID=America/New_York:20250806T193000
DTSTAMP:20260425T100721
CREATED:20241121T140105Z
LAST-MODIFIED:20250716T154318Z
UID:2656-1754503200-1754508600@tampabay.usnachapters.net
SUMMARY:August 2025 Chapter Meeting
DESCRIPTION:August 2025 Chapter Meeting
URL:http://tampabay.usnachapters.net/event/august-2025-chapter-meeting/
LOCATION:Chuck Lager America’s Tavern\, 5224 Bridge St\, Tampa\, FL\, 33611\, United States
CATEGORIES:Chapter Meeting
END:VEVENT
BEGIN:VEVENT
DTSTART;TZID=America/New_York:20250604T180000
DTEND;TZID=America/New_York:20250604T193000
DTSTAMP:20260425T100721
CREATED:20241121T135751Z
LAST-MODIFIED:20250521T200115Z
UID:2652-1749060000-1749065400@tampabay.usnachapters.net
SUMMARY:June 2025 Chapter Meeting
DESCRIPTION:June 2025 Chapter Meeting
URL:http://tampabay.usnachapters.net/event/june-2025-chapter-meeting/
LOCATION:Chuck Lager America’s Tavern\, 5224 Bridge St\, Tampa\, FL\, 33611\, United States
CATEGORIES:Chapter Meeting
END:VEVENT
BEGIN:VEVENT
DTSTART;TZID=America/New_York:20250507T180000
DTEND;TZID=America/New_York:20250507T193000
DTSTAMP:20260425T100721
CREATED:20241121T135415Z
LAST-MODIFIED:20250409T161024Z
UID:2648-1746640800-1746646200@tampabay.usnachapters.net
SUMMARY:May 2025 Chapter Meeting
DESCRIPTION:May 2025 Chapter Meeting
URL:http://tampabay.usnachapters.net/event/may-2025-chapter-meeting/
LOCATION:Chuck Lager America’s Tavern\, 5224 Bridge St\, Tampa\, FL\, 33611\, United States
CATEGORIES:Chapter Meeting
END:VEVENT
BEGIN:VEVENT
DTSTART;TZID=America/New_York:20250402T180000
DTEND;TZID=America/New_York:20250402T193000
DTSTAMP:20260425T100721
CREATED:20230830T173725Z
LAST-MODIFIED:20250326T191758Z
UID:2588-1743616800-1743622200@tampabay.usnachapters.net
SUMMARY:April 2025 Chapter Meeting
DESCRIPTION:April 2025 Chapter Meeting
URL:http://tampabay.usnachapters.net/event/april-2025-chapter-meeting/
LOCATION:Chuck Lager America’s Tavern\, 5224 Bridge St\, Tampa\, FL\, 33611\, United States
CATEGORIES:Chapter Meeting
END:VEVENT
BEGIN:VEVENT
DTSTART;TZID=America/New_York:20250305T180000
DTEND;TZID=America/New_York:20250305T193000
DTSTAMP:20260425T100721
CREATED:20230830T173621Z
LAST-MODIFIED:20250304T033356Z
UID:2586-1741197600-1741203000@tampabay.usnachapters.net
SUMMARY:March 2025 Chapter Meeting
DESCRIPTION:March 2025 Chapter Meeting
URL:http://tampabay.usnachapters.net/event/march-2025-chapter-meeting/
LOCATION:Brickhouse Tavern and Tap\, 1102 North Dale Mabry\, Tampa\, FL\, 33607\, United States
CATEGORIES:Chapter Meeting
END:VEVENT
BEGIN:VEVENT
DTSTART;TZID=America/New_York:20250205T180000
DTEND;TZID=America/New_York:20250205T193000
DTSTAMP:20260425T100721
CREATED:20230830T173529Z
LAST-MODIFIED:20250129T145643Z
UID:2584-1738778400-1738783800@tampabay.usnachapters.net
SUMMARY:February 2025 Chapter Meeting
DESCRIPTION:February 2025 Chapter Meeting
URL:http://tampabay.usnachapters.net/event/february-2025-chapter-meeting/
LOCATION:Brickhouse Tavern and Tap\, 1102 North Dale Mabry\, Tampa\, FL\, 33607\, United States
CATEGORIES:Chapter Meeting
END:VEVENT
BEGIN:VEVENT
DTSTART;TZID=America/New_York:20250108T180000
DTEND;TZID=America/New_York:20250108T210000
DTSTAMP:20260425T100721
CREATED:20230830T173444Z
LAST-MODIFIED:20241121T140005Z
UID:2582-1736359200-1736370000@tampabay.usnachapters.net
SUMMARY:January 2025 Chapter Meeting
DESCRIPTION:January 2025 Chapter Meeting
URL:http://tampabay.usnachapters.net/event/january-2025-chapter-meeting/
LOCATION:Tate’s Pizzeria\, 3342 S West Shore Blvd\, Tampa\, FL\, 33629
CATEGORIES:Chapter Meeting
END:VEVENT
BEGIN:VEVENT
DTSTART;TZID=America/New_York:20241204T180000
DTEND;TZID=America/New_York:20241204T210000
DTSTAMP:20260425T100721
CREATED:20230830T173344Z
LAST-MODIFIED:20241127T163908Z
UID:2580-1733335200-1733346000@tampabay.usnachapters.net
SUMMARY:December 2024 Chapter Meeting
DESCRIPTION:December 2024 Chapter Meeting
URL:http://tampabay.usnachapters.net/event/december-2024-chapter-meeting/
LOCATION:Brickhouse Tavern and Tap\, 1102 North Dale Mabry\, Tampa\, FL\, 33607\, United States
CATEGORIES:Chapter Meeting
END:VEVENT
BEGIN:VEVENT
DTSTART;TZID=America/New_York:20241106T180000
DTEND;TZID=America/New_York:20241106T210000
DTSTAMP:20260425T100721
CREATED:20230830T173255Z
LAST-MODIFIED:20241121T141255Z
UID:2578-1730916000-1730926800@tampabay.usnachapters.net
SUMMARY:November 2024 Chapter Meeting
DESCRIPTION:November 2024 Chapter Meeting
URL:http://tampabay.usnachapters.net/event/november-2024-chapter-meeting/
LOCATION:Brickhouse Tavern and Tap\, 1102 North Dale Mabry\, Tampa\, FL\, 33607\, United States
CATEGORIES:Chapter Meeting
END:VEVENT
BEGIN:VEVENT
DTSTART;TZID=America/New_York:20241030T180000
DTEND;TZID=America/New_York:20241030T210000
DTSTAMP:20260425T100721
CREATED:20240815T134701Z
LAST-MODIFIED:20250716T154407Z
UID:2627-1730311200-1730322000@tampabay.usnachapters.net
SUMMARY:2024 Founder’s Day Dinner
DESCRIPTION:RESCHEDULED DUE TO HURRICANE MILTON \nThe annual U.S. Naval Academy Founders Day Students & Candidate Dinner\, sponsored for student guests\, will be held on Wednesday\, October 30\, 2024. This year’s theme is: \n“The United States Naval Academy — Providing Graduates\n Who Have the Potential to Assume the Highest Responsibilities\nOf Command\, Citizenship\, and Government.” \nThe USNA Alumni Association Tampa Bay Chapter welcomes all Florida West Coast freshmen through senior high school students (and their parents) who are Naval Academy candidates or who are students interested in learning more about the Naval Academy. Our Founder’s Day Dinner is a celebration of the anniversary of the founding of the U.S. Naval Academy. The purpose of the event is to provide valuable information on the Naval Academy and the admissions process. \nThe dinner will be held at the Feather Sound Country Club (I-275\, off Ulmerton Road in Pinellas County\, just over the Howard Frankland Bridge – 2201 Feather Sound Drive). A pre-dinner reception will start at 1800 hours (6:00 PM) followed by presentation of colors and dinner starting at 1900 hours (7:00 PM). The program will end at about 2100 hours (9:00 PM). \nActive duty\, reserve\, and retired Navy and Marine Corps officer alumni will be on hand to share their academy and service experiences with students\, candidates\, and parents on a one-to-one basis during dinner. \nThe Naval Academy offers 26 majors\, from Aerospace Engineering to Arabic. There are over 36 intercollegiate sports for men\, women\, and co-ed\, and many other club and intramural sports. The Naval Academy is a highly ranked Division I University with a full range of extracurricular activities. Over 30 percent of Midshipmen are women\, and diversity and inclusion are highly valued. \nAn appointment to the Naval Academy is valued at over $420\,000. \nThe Tampa Bay Alumni Chapter will host all candidates and students. All candidates/students must be accompanied by at least one parent. There is no cost to the candidate or student in this case. For all others\, there will be a fee of $60.00 per person for dinner (registration goes up to $65.00 after September 20th). For candidates or students without a paying adult with them\, there will be a fee of $30 (and $32.50 after September 20th). The two entrée choices are: Sun-Dried Chicken Mediterranean OR Citrus Rosemary Wild Salmon. Also included are House Salad\, Vegetable of the Day\, Fresh Baked Assorted Rolls and Whipped Herb Butter\, Iced Tea\, Water and Coffee Service. Dessert will include a special “Cake Cutting” using Navy and Marine Corps ceremonial swords. A cash bar will be available during the reception. \nReservations\, entrée choices\, and payment are required by Tuesday\, October 22\, 2024\, at 2359 hours (11:59 PM).  Please make your reservations early to ensure your opportunity to become informed about the Naval Academy and to take advantage of the early registration payment discount! Go to 2024 Founders Day Dinner at https://myusna.com/events/96793 and follow the steps to register\, chose your entrée\, and pay. \nDress will be Summer White for Navy\, Class “C” uniform for Marines\, Business dress for civilians and students (shirt & tie or skirt/slacks) or equivalent JROTC/Sea Cadet uniform. \nFor further details\, please feel free to Steve Swift sswift@1987.usna.com.
URL:http://tampabay.usnachapters.net/event/2024-founders-day-dinner/
LOCATION:Feather Sound Country Club\, 2201 Feather Sound Dr\, Clearwater\, FL\, 33762\, United States
END:VEVENT
BEGIN:VEVENT
DTSTART;TZID=America/New_York:20241002T180000
DTEND;TZID=America/New_York:20241002T210000
DTSTAMP:20260425T100721
CREATED:20230830T173203Z
LAST-MODIFIED:20230830T173203Z
UID:2576-1727892000-1727902800@tampabay.usnachapters.net
SUMMARY:October 2024 Chapter Meeting
DESCRIPTION:October 2024 Chapter Meeting
URL:http://tampabay.usnachapters.net/event/october-2024-chapter-meeting/
LOCATION:Tate’s Pizzeria\, 3342 S West Shore Blvd\, Tampa\, FL\, 33629
CATEGORIES:Chapter Meeting
END:VEVENT
BEGIN:VEVENT
DTSTART;TZID=America/New_York:20240904T180000
DTEND;TZID=America/New_York:20240904T210000
DTSTAMP:20260425T100721
CREATED:20230830T173102Z
LAST-MODIFIED:20250129T145616Z
UID:2574-1725472800-1725483600@tampabay.usnachapters.net
SUMMARY:September 2024 Chapter Meeting
DESCRIPTION:September 2024 Chapter Meeting
URL:http://tampabay.usnachapters.net/event/september-2024-chapter-meeting/
LOCATION:Tate’s Pizzeria\, 3342 S West Shore Blvd\, Tampa\, FL\, 33629
CATEGORIES:Chapter Meeting
END:VEVENT
BEGIN:VEVENT
DTSTART;TZID=America/New_York:20240807T180000
DTEND;TZID=America/New_York:20240807T210000
DTSTAMP:20260425T100721
CREATED:20230830T172934Z
LAST-MODIFIED:20230830T172934Z
UID:2572-1723053600-1723064400@tampabay.usnachapters.net
SUMMARY:August 2024 Chapter Meeting
DESCRIPTION:August 2024 Chapter Meeting
URL:http://tampabay.usnachapters.net/event/august-2024-chapter-meeting/
LOCATION:Tate’s Pizzeria\, 3342 S West Shore Blvd\, Tampa\, FL\, 33629
CATEGORIES:Chapter Meeting
END:VEVENT
BEGIN:VEVENT
DTSTART;TZID=America/New_York:20240629T161000
DTEND;TZID=America/New_York:20240629T200000
DTSTAMP:20260425T100721
CREATED:20240214T223928Z
LAST-MODIFIED:20241121T135613Z
UID:2592-1719677400-1719691200@tampabay.usnachapters.net
SUMMARY:Tampa Bay Rays Baseball Game
DESCRIPTION:U.S. NAVAL ACADEMY ALUMNI ASS’N\nTAMPA BAY CHAPTER\nHOSTS\nFELLOW SERVICE ACADEMY ALUMNI\nAT THE RAYS \nCome out to Tropicana Field for \nWashington Nationals\nvs.\nTampa Bay Rays \nSaturday\, June 29\, 2024\, at 4:10 pm \n  \n Navy will be hosting and welcoming our fellow Service Academy alumni.  Join us! \nOur group tickets are in Section 214 (mezzanine level\, above first base).  Tickets are only $57 each\, a substantial discount off the regular list price. \nRays tickets at Tropicana Field are electronic only.  Be sure to purchase and register using the e-mail address to which you wish your electronic tickets to be sent (the e-mail address associated with your MLB ticket account and MLB Ballpark App\, if you have them already).  Full details on how to access your electronic tickets in the MLB Ballpark App will be sent to you by e-mail when the tickets are transferred a week or so before the game. \nBecause we must purchase these group tickets from the Rays well in advance of game day\, the deadline for purchasing tickets and requesting refunds is June 13. \nQuestions?  Contact Fr. Tim Corcoran\, USNA ’67\, at ctcorcoran@mindspring.com. \nREGISTER AND PURCHASE YOUR TICKETS AT\nhttps://myusna.com/networks/events/82266 \nSee you at the Trop on June 29!  Go Navy!  Go Rays!
URL:http://tampabay.usnachapters.net/event/all-service-academy-rays-baseball-game/
LOCATION:Tropicana Field\, 1 Tropicana Drive\, St. Petersburg\, FL\, 33705\, United States
CATEGORIES:Sports Event
END:VEVENT
BEGIN:VEVENT
DTSTART;TZID=America/New_York:20240605T180000
DTEND;TZID=America/New_York:20240605T210000
DTSTAMP:20260425T100721
CREATED:20230830T172838Z
LAST-MODIFIED:20230830T172943Z
UID:2570-1717610400-1717621200@tampabay.usnachapters.net
SUMMARY:June 2024 Chapter Meeting
DESCRIPTION:June 2024 Chapter Meeting
URL:http://tampabay.usnachapters.net/event/june-2024-chapter-meeting/
LOCATION:Tate’s Pizzeria\, 3342 S West Shore Blvd\, Tampa\, FL\, 33629
CATEGORIES:Chapter Meeting
END:VEVENT
BEGIN:VEVENT
DTSTART;TZID=America/New_York:20240501T180000
DTEND;TZID=America/New_York:20240501T210000
DTSTAMP:20260425T100721
CREATED:20230830T172650Z
LAST-MODIFIED:20230830T172952Z
UID:2568-1714586400-1714597200@tampabay.usnachapters.net
SUMMARY:May 2024 Chapter Meeting
DESCRIPTION:May 2024 Chapter Meeting
URL:http://tampabay.usnachapters.net/event/may-2024-chapter-meeting/
LOCATION:Tate’s Pizzeria\, 3342 S West Shore Blvd\, Tampa\, FL\, 33629
CATEGORIES:Chapter Meeting
END:VEVENT
BEGIN:VEVENT
DTSTART;TZID=America/New_York:20240403T180000
DTEND;TZID=America/New_York:20240403T210000
DTSTAMP:20260425T100721
CREATED:20221215T015142Z
LAST-MODIFIED:20230119T211717Z
UID:2055-1712167200-1712178000@tampabay.usnachapters.net
SUMMARY:April 2024 Chapter Meeting
DESCRIPTION:April 2024 Chapter Meeting
URL:http://tampabay.usnachapters.net/event/april-2024-chapter-meeting/
LOCATION:Tate’s Pizzeria\, 3342 S West Shore Blvd\, Tampa\, FL\, 33629
CATEGORIES:Chapter Meeting
END:VEVENT
BEGIN:VEVENT
DTSTART;TZID=America/New_York:20240306T180000
DTEND;TZID=America/New_York:20240306T210000
DTSTAMP:20260425T100721
CREATED:20221215T015057Z
LAST-MODIFIED:20230119T212218Z
UID:2053-1709748000-1709758800@tampabay.usnachapters.net
SUMMARY:March 2024 Chapter Meeting
DESCRIPTION:March 2024 Chapter Meeting
URL:http://tampabay.usnachapters.net/event/march-2024-chapter-meeting/
LOCATION:Tate’s Pizzeria\, 3342 S West Shore Blvd\, Tampa\, FL\, 33629
CATEGORIES:Chapter Meeting
END:VEVENT
BEGIN:VEVENT
DTSTART;TZID=America/New_York:20240207T180000
DTEND;TZID=America/New_York:20240207T210000
DTSTAMP:20260425T100721
CREATED:20221215T015003Z
LAST-MODIFIED:20230119T212148Z
UID:2051-1707328800-1707339600@tampabay.usnachapters.net
SUMMARY:February 2024 Chapter Meeting
DESCRIPTION:February 2024 Chapter Meeting
URL:http://tampabay.usnachapters.net/event/february-2024-chapter-meeting/
LOCATION:Tate’s Pizzeria\, 3342 S West Shore Blvd\, Tampa\, FL\, 33629
CATEGORIES:Chapter Meeting
END:VEVENT
BEGIN:VEVENT
DTSTART;TZID=America/New_York:20240103T180000
DTEND;TZID=America/New_York:20240103T210000
DTSTAMP:20260425T100721
CREATED:20221215T014849Z
LAST-MODIFIED:20230119T212133Z
UID:2049-1704304800-1704315600@tampabay.usnachapters.net
SUMMARY:January 2024 Chapter Meeting
DESCRIPTION:January 2024 Chapter Meeting
URL:http://tampabay.usnachapters.net/event/january-2024-chapter-meeting/
LOCATION:Tate’s Pizzeria\, 3342 S West Shore Blvd\, Tampa\, FL\, 33629
CATEGORIES:Chapter Meeting
END:VEVENT
BEGIN:VEVENT
DTSTART;TZID=America/New_York:20231206T180000
DTEND;TZID=America/New_York:20231206T210000
DTSTAMP:20260425T100721
CREATED:20221215T014524Z
LAST-MODIFIED:20230119T212116Z
UID:2047-1701885600-1701896400@tampabay.usnachapters.net
SUMMARY:December 2023 Chapter Meeting
DESCRIPTION:December 2023 Chapter Meeting
URL:http://tampabay.usnachapters.net/event/december-2023-chapter-meeting/
LOCATION:Tate’s Pizzeria\, 3342 S West Shore Blvd\, Tampa\, FL\, 33629
CATEGORIES:Chapter Meeting
END:VEVENT
BEGIN:VEVENT
DTSTART;TZID=America/New_York:20231101T180000
DTEND;TZID=America/New_York:20231101T210000
DTSTAMP:20260425T100721
CREATED:20221215T014442Z
LAST-MODIFIED:20230119T212059Z
UID:2045-1698861600-1698872400@tampabay.usnachapters.net
SUMMARY:November 2023 Chapter Meeting
DESCRIPTION:November 2023 Chapter Meeting
URL:http://tampabay.usnachapters.net/event/november-2023-chapter-meeting/
LOCATION:Tate’s Pizzeria\, 3342 S West Shore Blvd\, Tampa\, FL\, 33629
CATEGORIES:Chapter Meeting
END:VEVENT
BEGIN:VEVENT
DTSTART;TZID=America/New_York:20231011T180000
DTEND;TZID=America/New_York:20231011T210000
DTSTAMP:20260425T100721
CREATED:20230826T110615Z
LAST-MODIFIED:20231003T083623Z
UID:2558-1697047200-1697058000@tampabay.usnachapters.net
SUMMARY:2023 Founder's Day Dinner
DESCRIPTION:This year’s Naval Academy Founder’s Day Students & Candidate Dinner\, celebrating the 178th anniversary of the founding of the U. S. Naval Academy\, is on Wednesday\, October 11\, 2023\, from 6:00 pm to 9:00 pm\, at Feather Sound Country Club\, 2201 Feather Sound Drive\, Clearwater\, FL 33762 (off I-275 and Ulmerton Road\, on the west side of the Howard Frankland Bridge). \nThis is an opportunity for Naval Academy alumni and friends to celebrate the founding of their alma mater and to provide valuable information to students and candidates about the Naval Academy and its admissions process. \nThe members of the U. S. Naval Academy Alumni Ass’n Tampa Bay Chapter invite alumni\, friends\, and all Florida West Coast high school students and parents (freshmen through seniors)\, who are candidates for admission or who are interested in learning more about the Naval Academy\, to attend. \nThere is no cost for students and candidates to attend this dinner\, but students and candidates must be accompanied by a parent or guardian. The cost for parents\, guardians\, alumni\, and guests is $55 each (early registration) or $60 each (after September 22\, 2023). \nThe deadline to register and pay is Monday\, October 2\, 2023\, at 5:00 pm. \nDress is Summer White for Navy\, Class “C” uniform for Marines\, Business dress for civilians and students (shirt & tie or skirt/slacks) or equivalent JROTC/Sea Cadet uniform. \nRegistration for this event is closed. \nStill have questions?  Contact Captain Steve Swift\, USNR (Ret.)\, at sswift@1987.usna.com .
URL:http://tampabay.usnachapters.net/event/founders-day-dinner/
LOCATION:Feather Sound Country Club\, 2201 Feather Sound Dr\, Clearwater\, FL\, 33762\, United States
END:VEVENT
BEGIN:VEVENT
DTSTART;TZID=America/New_York:20231004T180000
DTEND;TZID=America/New_York:20231004T210000
DTSTAMP:20260425T100721
CREATED:20221215T014359Z
LAST-MODIFIED:20230119T212043Z
UID:2043-1696442400-1696453200@tampabay.usnachapters.net
SUMMARY:October 2023 Chapter Meeting
DESCRIPTION:October 2023 Chapter Meeting
URL:http://tampabay.usnachapters.net/event/october-2023-chapter-meeting/
LOCATION:Tate’s Pizzeria\, 3342 S West Shore Blvd\, Tampa\, FL\, 33629
CATEGORIES:Chapter Meeting
END:VEVENT
END:VCALENDAR