BEGIN:VCALENDAR
VERSION:2.0
PRODID:-//Tampa Bay - ECPv6.15.20//NONSGML v1.0//EN
CALSCALE:GREGORIAN
METHOD:PUBLISH
X-WR-CALNAME:Tampa Bay
X-ORIGINAL-URL:http://tampabay.usnachapters.net
X-WR-CALDESC:Events for Tampa Bay
REFRESH-INTERVAL;VALUE=DURATION:PT1H
X-Robots-Tag:noindex
X-PUBLISHED-TTL:PT1H
BEGIN:VTIMEZONE
TZID:America/New_York
BEGIN:DAYLIGHT
TZOFFSETFROM:-0500
TZOFFSETTO:-0400
TZNAME:EDT
DTSTART:20180311T070000
END:DAYLIGHT
BEGIN:STANDARD
TZOFFSETFROM:-0400
TZOFFSETTO:-0500
TZNAME:EST
DTSTART:20181104T060000
END:STANDARD
BEGIN:DAYLIGHT
TZOFFSETFROM:-0500
TZOFFSETTO:-0400
TZNAME:EDT
DTSTART:20190310T070000
END:DAYLIGHT
BEGIN:STANDARD
TZOFFSETFROM:-0400
TZOFFSETTO:-0500
TZNAME:EST
DTSTART:20191103T060000
END:STANDARD
BEGIN:DAYLIGHT
TZOFFSETFROM:-0500
TZOFFSETTO:-0400
TZNAME:EDT
DTSTART:20200308T070000
END:DAYLIGHT
BEGIN:STANDARD
TZOFFSETFROM:-0400
TZOFFSETTO:-0500
TZNAME:EST
DTSTART:20201101T060000
END:STANDARD
BEGIN:DAYLIGHT
TZOFFSETFROM:-0500
TZOFFSETTO:-0400
TZNAME:EDT
DTSTART:20210314T070000
END:DAYLIGHT
BEGIN:STANDARD
TZOFFSETFROM:-0400
TZOFFSETTO:-0500
TZNAME:EST
DTSTART:20211107T060000
END:STANDARD
END:VTIMEZONE
BEGIN:VEVENT
DTSTART;TZID=America/New_York:20200312T190000
DTEND;TZID=America/New_York:20200312T210000
DTSTAMP:20260425T115042
CREATED:20200129T233914Z
LAST-MODIFIED:20200129T233914Z
UID:374-1584039600-1584046800@tampabay.usnachapters.net
SUMMARY:USNA Glee Club Performance
DESCRIPTION:The USNA Glee Club will perform a concert at Hyde Park United Methodist Church\, 500 W. Platt St.\, Tampa.  The Glee Club is spending their spring break in Florida\, and is coming over from Orlando for this one-night special event.  No charge – come on out for an inspiring evening of music.  The public is invited – bring your family\, friends\, and neighbors! \nHyde Park United Methodist Church\n500 W Platt St.Tampa\n 
URL:http://tampabay.usnachapters.net/event/usna-glee-club-performance/
LOCATION:FL
CATEGORIES:USNA Glee Club
END:VEVENT
BEGIN:VEVENT
DTSTART;VALUE=DATE:20200312
DTEND;VALUE=DATE:20200316
DTSTAMP:20260425T115042
CREATED:20200129T234342Z
LAST-MODIFIED:20200129T234342Z
UID:378-1583971200-1584316799@tampabay.usnachapters.net
SUMMARY:The Players’ Championship Golf Tournament
DESCRIPTION:12-15 March – The Players’ Championship Golf Tournament\, Ponte Vedra Beach\, FL – the tournament sponsors are offering free and discounted tickets to veterans for this prestigious golf tournament.
URL:http://tampabay.usnachapters.net/event/the-players-championship-golf-tournament/
LOCATION:FL
CATEGORIES:Sports Event
END:VEVENT
BEGIN:VEVENT
DTSTART;TZID=America/New_York:20200308T120000
DTEND;TZID=America/New_York:20200308T150000
DTSTAMP:20260425T115042
CREATED:20200120T165743Z
LAST-MODIFIED:20210513T174856Z
UID:312-1583668800-1583679600@tampabay.usnachapters.net
SUMMARY:USNA Information Day Picnic
DESCRIPTION:*****  EVENT CLOSED  ******\nThe United States Naval Academy Admissions Office in conjunction with the Tampa Bay Alumni Chapter and Tampa Bay Parents’ Association cordially invite you and your parents to a picnic and ongoing information session about the Naval Academy and its application processes. \nOn hand will be Officers from the Admissions Office\, local Naval Academy Information Officers (Blue & Gold Officers)\, Naval Academy Alumni\, Midshipmen\, and Parents of Midshipmen to answer any and all questions about the Naval Academy (and NROTC). We also may have on hand local Congressional Staff to provide info on the Congressional Nomination Process for USNA. \nJOIN US TO FIND OUT FIRST HAND: \nCURRENT MIDSHIPMEN EXPERIENCES \nGENERAL APPLICATION PROCEDURES \nNOMINATIONS AND APPOINTMENTS \nSUMMER SEMINAR INFORMATION \nPARENTS’ CLUB \nLocation: Picnic Island Park – Shelter #TBD at 7404 Picnic Island Boulevard \nDirections: From I-275. Come South down South West Shore Blvd.  Or From Gandy Blvd – Turn South onto South West Shore Blvd.  Go 1.4 miles South on South West Shore Blvd from Gandy Blvd.  Continue for 1.9 miles on to West Commerce Street.  Turn Right onto Picnic Island Blvd for 1.1 miles.  Then keep going and Shelter #613 will be on the right as you head towards the point before the playground on the right. \nDress is Picnic Casual – shorts\, sandals\, etc. \nREGISTRATION\n  \n 
URL:http://tampabay.usnachapters.net/event/usna-information-day-picnic/
LOCATION:FL
CATEGORIES:USNA Information Session
END:VEVENT
BEGIN:VEVENT
DTSTART;TZID=America/New_York:20200304T180000
DTEND;TZID=America/New_York:20200304T200000
DTSTAMP:20260425T115042
CREATED:20200129T233633Z
LAST-MODIFIED:20200129T234716Z
UID:372-1583344800-1583352000@tampabay.usnachapters.net
SUMMARY:March 2020 Chapter Meeting
DESCRIPTION:Monthly Chapter meeting at: \nTate's Pizzeria\nWestshore Blvd\nTampa\n 
URL:http://tampabay.usnachapters.net/event/march-2020-chapter-meeting/
LOCATION:FL
CATEGORIES:Chapter Meeting
END:VEVENT
BEGIN:VEVENT
DTSTART;TZID=America/New_York:20200206T183000
DTEND;TZID=America/New_York:20200206T210000
DTSTAMP:20260425T115042
CREATED:20200120T225955Z
LAST-MODIFIED:20200120T225955Z
UID:332-1581013800-1581022800@tampabay.usnachapters.net
SUMMARY:February 2020 Chapter Meeting
DESCRIPTION:Monthly Chapter Meeting at Tate’s Pizzeria
URL:http://tampabay.usnachapters.net/event/february-2020-chapter-meeting/
LOCATION:FL
CATEGORIES:Chapter Meeting
END:VEVENT
BEGIN:VEVENT
DTSTART;TZID=America/New_York:20191106T180000
DTEND;TZID=America/New_York:20191106T200000
DTSTAMP:20260425T115042
CREATED:20190923T135735Z
LAST-MODIFIED:20190923T135835Z
UID:296-1573063200-1573070400@tampabay.usnachapters.net
SUMMARY:Nov 2019 Chapter Meeting
DESCRIPTION:Monthly Chapter Meeting
URL:http://tampabay.usnachapters.net/event/nov-2019-chapter-meeting/
LOCATION:FL
CATEGORIES:Chapter Meeting
END:VEVENT
BEGIN:VEVENT
DTSTART;TZID=America/New_York:20191009T140000
DTEND;TZID=America/New_York:20191009T170000
DTSTAMP:20260425T115042
CREATED:20190920T014204Z
LAST-MODIFIED:20220928T220743Z
UID:275-1570629600-1570640400@tampabay.usnachapters.net
SUMMARY:Founder's Day Dinner 2019
DESCRIPTION:An opportunity for interested high school students and their parents to learn more about USNA from Alumni and featured speakers.
URL:http://tampabay.usnachapters.net/event/founders-day-dinner-2019/
LOCATION:FL
END:VEVENT
BEGIN:VEVENT
DTSTART;TZID=America/New_York:20191003T180000
DTEND;TZID=America/New_York:20191003T200000
DTSTAMP:20260425T115042
CREATED:20190921T183843Z
LAST-MODIFIED:20190921T183843Z
UID:289-1570125600-1570132800@tampabay.usnachapters.net
SUMMARY:Oct 2019 Chapter Meeting
DESCRIPTION:Monthly Chapter Meeting
URL:http://tampabay.usnachapters.net/event/oct-2019-chapter-meeting/
LOCATION:FL
CATEGORIES:Chapter Meeting
END:VEVENT
END:VCALENDAR