BEGIN:VCALENDAR
VERSION:2.0
PRODID:-//Tampa Bay - ECPv6.15.20//NONSGML v1.0//EN
CALSCALE:GREGORIAN
METHOD:PUBLISH
X-ORIGINAL-URL:http://tampabay.usnachapters.net
X-WR-CALDESC:Events for Tampa Bay
REFRESH-INTERVAL;VALUE=DURATION:PT1H
X-Robots-Tag:noindex
X-PUBLISHED-TTL:PT1H
BEGIN:VTIMEZONE
TZID:America/New_York
BEGIN:DAYLIGHT
TZOFFSETFROM:-0500
TZOFFSETTO:-0400
TZNAME:EDT
DTSTART:20250309T070000
END:DAYLIGHT
BEGIN:STANDARD
TZOFFSETFROM:-0400
TZOFFSETTO:-0500
TZNAME:EST
DTSTART:20251102T060000
END:STANDARD
BEGIN:DAYLIGHT
TZOFFSETFROM:-0500
TZOFFSETTO:-0400
TZNAME:EDT
DTSTART:20260308T070000
END:DAYLIGHT
BEGIN:STANDARD
TZOFFSETFROM:-0400
TZOFFSETTO:-0500
TZNAME:EST
DTSTART:20261101T060000
END:STANDARD
BEGIN:DAYLIGHT
TZOFFSETFROM:-0500
TZOFFSETTO:-0400
TZNAME:EDT
DTSTART:20270314T070000
END:DAYLIGHT
BEGIN:STANDARD
TZOFFSETFROM:-0400
TZOFFSETTO:-0500
TZNAME:EST
DTSTART:20271107T060000
END:STANDARD
END:VTIMEZONE
BEGIN:VEVENT
DTSTART;TZID=America/New_York:20260204T180000
DTEND;TZID=America/New_York:20260204T193000
DTSTAMP:20260424T185104
CREATED:20241121T140704Z
LAST-MODIFIED:20260105T160134Z
UID:2668-1770228000-1770233400@tampabay.usnachapters.net
SUMMARY:February 2026 Chapter Meeting
DESCRIPTION:February 2026 Chapter Meeting
URL:http://tampabay.usnachapters.net/event/february-2026-chapter-meeting/
LOCATION:The Greene Turtle\, 5224 Bridge Street\, Tampa\, 33611\, United States
CATEGORIES:Chapter Meeting
END:VEVENT
END:VCALENDAR